BEGIN:VCALENDAR
VERSION:2.0
PRODID:-//h4m, hart voor medezeggenschap - ECPv6.15.16//NONSGML v1.0//EN
CALSCALE:GREGORIAN
METHOD:PUBLISH
X-WR-CALNAME:h4m, hart voor medezeggenschap
X-ORIGINAL-URL:https://h4m.nl
X-WR-CALDESC:Evenementen voor h4m, hart voor medezeggenschap
REFRESH-INTERVAL;VALUE=DURATION:PT1H
X-Robots-Tag:noindex
X-PUBLISHED-TTL:PT1H
BEGIN:VTIMEZONE
TZID:Europe/Amsterdam
BEGIN:DAYLIGHT
TZOFFSETFROM:+0100
TZOFFSETTO:+0200
TZNAME:CEST
DTSTART:20200329T010000
END:DAYLIGHT
BEGIN:STANDARD
TZOFFSETFROM:+0200
TZOFFSETTO:+0100
TZNAME:CET
DTSTART:20201025T010000
END:STANDARD
BEGIN:DAYLIGHT
TZOFFSETFROM:+0100
TZOFFSETTO:+0200
TZNAME:CEST
DTSTART:20210328T010000
END:DAYLIGHT
BEGIN:STANDARD
TZOFFSETFROM:+0200
TZOFFSETTO:+0100
TZNAME:CET
DTSTART:20211031T010000
END:STANDARD
BEGIN:DAYLIGHT
TZOFFSETFROM:+0100
TZOFFSETTO:+0200
TZNAME:CEST
DTSTART:20220327T010000
END:DAYLIGHT
BEGIN:STANDARD
TZOFFSETFROM:+0200
TZOFFSETTO:+0100
TZNAME:CET
DTSTART:20221030T010000
END:STANDARD
BEGIN:DAYLIGHT
TZOFFSETFROM:+0100
TZOFFSETTO:+0200
TZNAME:CEST
DTSTART:20230326T010000
END:DAYLIGHT
BEGIN:STANDARD
TZOFFSETFROM:+0200
TZOFFSETTO:+0100
TZNAME:CET
DTSTART:20231029T010000
END:STANDARD
END:VTIMEZONE
BEGIN:VTIMEZONE
TZID:UTC
BEGIN:STANDARD
TZOFFSETFROM:+0000
TZOFFSETTO:+0000
TZNAME:UTC
DTSTART:20170101T000000
END:STANDARD
END:VTIMEZONE
BEGIN:VEVENT
DTSTART;TZID=Europe/Amsterdam:20221213T093000
DTEND;TZID=Europe/Amsterdam:20221213T163000
DTSTAMP:20260425T130407
CREATED:20220201T103841Z
LAST-MODIFIED:20221114T103302Z
UID:3658-1670923800-1670949000@h4m.nl
SUMMARY:WOR training 13 december 2022
DESCRIPTION:De WOR training wordt gegeven door een zeer ervaren OR trainer die tevens OR adviseur is. Zij kent de kneepjes van het vak\, de theorie en de praktijk.\nZij heeft een SCOOR/RMZO erkenning als OR trainer\, heeft 10 jaar werkervaring in organisaties en meer dan 25 jaar ervaring in het trainen en adviseren van ondernemingsraden. \n \nWat ga je leren tijdens deze WOR training?\n\nWat de positie van de OR in de organisatie is en wat OR taken en OR bevoegdheden zijn.\nWat de rechten van de OR zijn.\nOR rechten die behandeld worden; initiatiefrecht\, informatierecht\, overlegrecht\, adviesrecht\, instemmingsrecht en geheimhouding.\nWat de WOR zegt over het contact houden met de achterban.\n\nDeze training geeft je inzicht in bovengenoemde vragen en thema’s. \nErvaringsgericht leren\n\nInteractief\, deelnemers kunnen hun vragen stellen\nInleiding met overzicht en uitleg van de rechten en de procedures\nCases om de praktijk te oefenen\nTeamquiz aan het einde van de dag\, leuk en leerzaam\n\nPraktische informatie\nElke cursist krijgt een map met sheets die een samenvatting geven van de verschillende rechten en de overig behandelde stof. Ook is er een WOR-kaart bijgevoegd als handig naslagwerk.\nDe training wordt gegeven aan kleine groepen van 6 tot 12 personen. Je kunt je individueel inschrijven of met meerdere OR leden. Deze WOR training kan ook aan de hele OR gegeven worden op een zelf gekozen locatie. \nDe studiebelasting van deze trainingsdag is 6\,5 uur. \nGedurende het halfjaar na de cursus mogen de cursisten kosteloos gebruik maken van de helpdesk van h4m voor WOR vraagstukken. \nLocatie\nonze locatie in Hilversum op de Mozartlaan 25\, goed bereikbaar per Intercity en vlakbij snelwegen of locatie Ottenhome aan de plassen bij Hilversum/Kortenhoef. \nPrijs\n€ 325\,- btw 0% per persoon inclusief documentatiemap\, WOR-kaart\, helpdesk\, zaalhuur\, koffie/thee en een uitgebreide lunch bij het gezellige Wisseloord restaurant bij ons op het terrein of bij Ottenhome aan het water. \nData WOR training/ OR basiscursus 2022\n\ndonderdag 3 maart 2022\ndinsdag 17 mei 2022\ndonderdag 14 juli 2022\ndinsdag 4 oktober 2022\ndonderdag 13 december 2022\n\nAanmelden\n\n	Bericht: JavaScript is vereist voor deze inhoud.
URL:https://h4m.nl/themadag/wor-training-13-december-2022/
LOCATION:h4m Kantoor\, Mozartlaan 25W\, Hilversum\, Noord-Holland\, 1217 CM\, Nederland
CATEGORIES:Achterban,ondernemingsraad en de achterban,training OR en WOR,training Wet op de ondernemingsraden (WOR) voor de ondernemingsraad,Wet op de ondernemingsraden (WOR),WOR
ATTACH;FMTTYPE=image/jpeg:https://h4m.nl/wp-content/uploads/AdviesTrajectFasen-1.jpg
ORGANIZER;CN="h4m%2C hart voor medezeggenschap bv":MAILTO:info@h4m.nl
END:VEVENT
BEGIN:VEVENT
DTSTART;TZID=Europe/Amsterdam:20221004T093000
DTEND;TZID=Europe/Amsterdam:20221004T163000
DTSTAMP:20260425T130407
CREATED:20220201T103045Z
LAST-MODIFIED:20220201T103241Z
UID:3655-1664875800-1664901000@h4m.nl
SUMMARY:WOR training 4 oktober 2022
DESCRIPTION:De WOR training wordt gegeven door een zeer ervaren OR trainer die tevens OR adviseur is. Zij kent de kneepjes van het vak\, de theorie en de praktijk. Zij heeft een SCOOR/RMZO erkenning als OR trainer\, heeft 10 jaar werkervaring in organisaties en meer dan 25 jaar ervaring in het trainen en adviseren van ondernemingsraden. \n \nWat ga je leren tijdens deze WOR training?\n\nWat de positie van de OR in de organisatie is en wat OR taken en OR bevoegdheden zijn.\nWat de rechten van de OR zijn.\nOR rechten die behandeld worden; initiatiefrecht\, informatierecht\, overlegrecht\, adviesrecht\, instemmingsrecht en geheimhouding.\nWat de WOR zegt over het contact houden met de achterban.\n\nDeze training geeft je inzicht in bovengenoemde vragen en thema’s. \nErvaringsgericht leren\n\nInteractief\, deelnemers kunnen hun vragen stellen\nInleiding met overzicht en uitleg van de rechten en de procedures\nCases om de praktijk te oefenen\nTeamquiz aan het einde van de dag\, leuk en leerzaam\n\nPraktische informatie\nElke cursist krijgt een map met sheets die een samenvatting geven van de verschillende rechten en de overig behandelde stof. Ook is er een WOR-kaart bijgevoegd als handig naslagwerk.\nDe training wordt gegeven aan kleine groepen van 6 tot 12 personen. Je kunt je individueel inschrijven of met meerdere OR leden. Deze WOR training kan ook aan de hele OR gegeven worden op een zelf gekozen locatie. \nDe studiebelasting van deze trainingsdag is 6\,5 uur. \nGedurende het halfjaar na de cursus mogen de cursisten kosteloos gebruik maken van de helpdesk van h4m voor WOR vraagstukken. \nLocatie\nonze locatie in Hilversum op de Mozartlaan 25\, goed bereikbaar per Intercity en vlakbij snelwegen of locatie Ottenhome aan de plassen bij Hilversum/Kortenhoef. \nPrijs\n€ 325\,- btw 0% per persoon inclusief documentatiemap\, WOR-kaart\, helpdesk\, zaalhuur\, koffie/thee en een uitgebreide lunch bij het gezellige Wisseloord restaurant bij ons op het terrein of bij Ottenhome aan het water. \nData WOR training/ OR basiscursus 2022\n\ndonderdag 3 maart 2022\ndinsdag 17 mei 2022\ndonderdag 14 juli 2022\ndinsdag 4 oktober 2022\ndonderdag 15 december 2022\n\nAanmelden\n\n	Bericht: JavaScript is vereist voor deze inhoud.
URL:https://h4m.nl/themadag/wor-training-4-oktober-2022/
LOCATION:h4m Kantoor\, Mozartlaan 25W\, Hilversum\, Noord-Holland\, 1217 CM\, Nederland
CATEGORIES:Achterban,ondernemingsraad en de achterban,training OR en WOR,training Wet op de ondernemingsraden (WOR) voor de ondernemingsraad,Wet op de ondernemingsraden (WOR),WOR
ATTACH;FMTTYPE=image/png:https://h4m.nl/wp-content/uploads/foto-voor-website-e1689667049414.png
ORGANIZER;CN="h4m%2C hart voor medezeggenschap bv":MAILTO:info@h4m.nl
END:VEVENT
BEGIN:VEVENT
DTSTART;TZID=Europe/Amsterdam:20220517T093000
DTEND;TZID=Europe/Amsterdam:20220517T163000
DTSTAMP:20260425T130407
CREATED:20220201T101944Z
LAST-MODIFIED:20220201T101944Z
UID:3647-1652779800-1652805000@h4m.nl
SUMMARY:WOR training 17 mei 2022
DESCRIPTION:De WOR training wordt gegeven door een zeer ervaren OR trainer die tevens OR adviseur is. Zij kent de kneepjes van het vak\, de theorie en de praktijk.\nZij heeft een SCOOR/RMZO           \nerkenning als OR trainer\, heeft 10 jaar werkervaring in organisaties en meer dan 25 jaar ervaring in het trainen en adviseren van ondernemingsraden. \nWat ga je leren tijdens deze WOR training?\n\nWat de positie van de OR in de organisatie is en wat OR taken en OR bevoegdheden zijn.\nWat de rechten van de OR zijn.\nOR rechten die behandeld worden; initiatiefrecht\, informatierecht\, overlegrecht\, adviesrecht\, instemmingsrecht en geheimhouding.\nWat de WOR zegt over het contact houden met de achterban.\n\nDeze training geeft je inzicht in bovengenoemde vragen en thema’s. \nErvaringsgericht leren\n\nInteractief\, deelnemers kunnen hun vragen stellen\nInleiding met overzicht en uitleg van de rechten en de procedures\nCases om de praktijk te oefenen\nTeamquiz aan het einde van de dag\, leuk en leerzaam\n\nPraktische informatie\nElke cursist krijgt een map met sheets die een samenvatting geven van de verschillende rechten en de overig behandelde stof. Ook is er een WOR-kaart bijgevoegd als handig naslagwerk.\nDe training wordt gegeven aan kleine groepen van 6 tot 12 personen. Je kunt je individueel inschrijven of met meerdere OR leden. Deze WOR training kan ook aan de hele OR gegeven worden op een zelf gekozen locatie. \nDe studiebelasting van deze trainingsdag is 6\,5 uur. \nGedurende het halfjaar na de cursus mogen de cursisten kosteloos gebruik maken van de helpdesk van h4m voor WOR vraagstukken. \nLocatie\nonze locatie in Hilversum op de Mozartlaan 25\, goed bereikbaar per Intercity en vlakbij snelwegen of locatie Ottenhome aan de plassen bij Hilversum/Kortenhoef. \nPrijs\n€ 325\,- btw 0% per persoon inclusief documentatiemap\, WOR-kaart\, helpdesk\, zaalhuur\, koffie/thee en een uitgebreide lunch bij het gezellige Wisseloord restaurant bij ons op het terrein of bij Ottenhome aan het water. \nData WOR training/ OR basiscursus 2022\n\ndonderdag 3 maart 2022\ndinsdag 17 mei 2022\ndonderdag 14 juli 2022\ndinsdag 4 oktober 2022\ndonderdag 15 december 2022\n\nAanmelden\n\n	Bericht: JavaScript is vereist voor deze inhoud.
URL:https://h4m.nl/themadag/wor-training-17-mei-2022/
LOCATION:h4m Kantoor\, Mozartlaan 25W\, Hilversum\, Noord-Holland\, 1217 CM\, Nederland
CATEGORIES:Achterban,ondernemingsraad en de achterban,training OR en WOR,training Wet op de ondernemingsraden (WOR) voor de ondernemingsraad,Wet op de ondernemingsraden (WOR),WOR
ATTACH;FMTTYPE=image/jpeg:https://h4m.nl/wp-content/uploads/Dia2-e1606818967489.jpg
ORGANIZER;CN="h4m%2C hart voor medezeggenschap bv":MAILTO:info@h4m.nl
END:VEVENT
BEGIN:VEVENT
DTSTART;TZID=Europe/Amsterdam:20210208T093000
DTEND;TZID=Europe/Amsterdam:20210208T170000
DTSTAMP:20260425T130407
CREATED:20180723T094329Z
LAST-MODIFIED:20201201T101244Z
UID:2490-1612776600-1612803600@h4m.nl
SUMMARY:Zelf je nieuws maken voor de ondernemingsraad en zijn achterban
DESCRIPTION:Training voor de ondernemingsraad en zijn achterban\n“Zelf je nieuws maken”\nmaandag 8 februari 2021 & dinsdag 6 april 2021\nPrijs: € 720\,- voor 2 dagen inclusief zaalhuur\, koffie/thee\, lunches en gastdocenten\, btw 0% \nProgramma opzet\nOR en achterban\, een lastige combinatie. Maar de OR doet zijn werk met name voor het behartigen van de belangen van de achterban. Een goede relatie met die achterban opbouwen is dus van wezenlijk belang. Wat wij merken in onze praktijk is dat bestuurders een OR die goed contact heeft met zijn achterban veel serieuzer nemen. Uiteindelijk vindt een bestuurder zijn eigen medewerkers en de wensen en doelen die zij hebben belangrijker dan de WOR\, wet op de ondernemingsraden. \n1e dag;\n– informatie over achterbancommunicatie (wat staat er in de wet op de ondernemingsraden+ marketing principes toepassen)\n– gesprek voeren over alle mogelijke mondelinge en schriftelijke communicatiemiddelen en als OR je keuze maken\n– OR gaat zijn eigen communicatieplan opstellen\n– OR gaat zijn eigen OR nieuwsbericht schrijven.  Direct aanmelden\n2e dag;\n– inzicht in enquête methoden\n– leren goede vragen op te stellen samenhangend met het doel van je enquête\n– oefenen met interviewen\n– leren eigen filmpjes of vlogs te maken met onze professionele buur\, Connecting Media\, op het Wisseloordterrein  in Hilversum. \nStudieduur van deze cursus: per dag 6\,5 uur\, in totaal 13 uur. \nachterban ondernemingsraad\, or achterban informeren\, ondernemingsraad achterban raadplegen\, communicatie met de achterban\, wor communicatie achterban\, achterbanraadpleging\, communicatie achterban ondernemingsraad\, communicatie or \nMeer informatie over Zelf je nieuws maken voor OR en achterban
URL:https://h4m.nl/themadag/zelf-je-nieuws-maken-voor-de-ondernemingsraad-en-zijn-achterban/
LOCATION:h4m Kantoor\, Mozartlaan 25W\, Hilversum\, Noord-Holland\, 1217 CM\, Nederland
CATEGORIES:Achterban,ondernemingsraad en de achterban
ATTACH;FMTTYPE=image/jpeg:https://h4m.nl/wp-content/uploads/communicatie-achterban-e1576235279528.jpg
ORGANIZER;CN="h4m%2C hart voor medezeggenschap bv":MAILTO:info@h4m.nl
END:VEVENT
BEGIN:VEVENT
DTSTART;VALUE=DATE:20200320
DTEND;VALUE=DATE:20200321
DTSTAMP:20260425T130407
CREATED:20191213T111719Z
LAST-MODIFIED:20191213T112535Z
UID:3334-1584662400-1584748799@h4m.nl
SUMMARY:OR en de achterban\, verbeter je communicatie
DESCRIPTION:Training vrijdag 20 maart 2020 & vrijdag 17 april 2020\n \nPrijs: € 695\,- p/p voor 2 dagen inclusief zaalhuur\, koffie/thee\, lunches en gastdocenten\, btw 0% \nOR en achterban\, een lastige combinatie. De OR doet zijn werk met name voor het behartigen van de belangen van de achterban. Een goede relatie met die achterban opbouwen is dus van wezenlijk belang.\nDe OR wil zijn communicatie verbeteren. De OR wil weten wat de WOR zegt over de communicatie met de achterban.\nDe OR wil vaak nieuwe communicatiemiddelen onderzoeken en een goed communicatieplan maken.\nDe OR wil weten wat de achterban denkt\, participatie van de achterban bevorderen.\nEn soms wil de OR middelen als vlogs of enquêtes inzetten.  \n \nProgramma opzet\n \n1e dag; mondelinge en schriftelijke communicatiemiddelen\, OR communicatieplan opstellen en OR nieuwsbericht schrijven.  \n2e dag; enquête methoden\, interviewen en leren eigen filmpjes of vlogs te maken met onze buur op de Mozartlaan in Hilversum.  \nStudieduur van deze cursus: per dag 6\,5 uur\, in totaal 13 uur.\nDe training gaat door bij minimaal 6 personen. Groepsgrootte: 6-12 personen\nDe training kan ook als maatwerktraining gevolgd worden door de voltallige ondernemingsraad op\naf te spreken data.  \nachterban ondernemingsraad\, or achterban informeren\, ondernemingsraad achterban raadplegen\, communicatie met de achterban\, wor communicatie achterban\, achterbanraadpleging\, communicatie achterban ondernemingsraad\, communicatie or \nAanmelden\n\n	Bericht: JavaScript is vereist voor deze inhoud.
URL:https://h4m.nl/themadag/ondernemingsraad-en-de-achterban-verbeter-je-communicatie/
LOCATION:h4m Kantoor\, Mozartlaan 25W\, Hilversum\, Noord-Holland\, 1217 CM\, Nederland
CATEGORIES:Achterban
ATTACH;FMTTYPE=image/jpeg:https://h4m.nl/wp-content/uploads/communicatie-achterban-e1576235279528.jpg
ORGANIZER;CN="h4m%2C hart voor medezeggenschap bv":MAILTO:info@h4m.nl
END:VEVENT
BEGIN:VEVENT
DTSTART;TZID=UTC:20190304T093000
DTEND;TZID=UTC:20190304T170000
DTSTAMP:20260425T130407
CREATED:20180723T094542Z
LAST-MODIFIED:20181214T112529Z
UID:2495-1551691800-1551718800@h4m.nl
SUMMARY:2-dagen zelf je nieuws maken voor OR en zijn achterban
DESCRIPTION:Training donderdag 31 januari 2019 & maandag 11 maart 2019\nPrijs: € 660\,- voor 2 dagen inclusief zaalhuur\, koffie/thee\, lunches en gastdocenten\, btw 0% \nProgramma opzet\n1e dag; mondelinge en schriftelijke communicatiemiddelen\, OR communicatieplan opstellen en OR nieuwsbericht schrijven.  Direct aanmelden\n2e dag; leren interviewen en vlogs maken met jonge professionals van Videonieuwsbericht\, onze buurman in Hilversum. \n \nMeer informatie over Zelf je nieuws maken voor OR en achterban</a
URL:https://h4m.nl/themadag/2-dagen-zelf-je-nieuws-maken-voor-or-en-zijn-achterban-2/
LOCATION:h4m Kantoor\, Mozartlaan 25W\, Hilversum\, Noord-Holland\, 1217 CM\, Nederland
CATEGORIES:Achterban
ATTACH;FMTTYPE=image/jpeg:https://h4m.nl/wp-content/uploads/communicatie-achterban-e1576235279528.jpg
END:VEVENT
BEGIN:VEVENT
DTSTART;TZID=UTC:20180604T093000
DTEND;TZID=UTC:20180604T170000
DTSTAMP:20260425T130407
CREATED:20180323T113539Z
LAST-MODIFIED:20180914T141118Z
UID:2096-1528104600-1528131600@h4m.nl
SUMMARY:2-dagen zelf je nieuws maken voor OR en zijn achterban
DESCRIPTION:Training maandag 4 juni en vrijdag 22 juni 2018\nPrijs: € 660\,- voor 2 dagen inclusief zaalhuur\, koffie/thee\, lunches en gastdocenten\, btw 0% \nProgramma opzet\nOR en achterban\, een lastige combinatie. Maar de OR doet zijn werk met name voor het behartigen van de belangen van de achterban. Een goede relatie met die achterban opbouwen is dus van wezenlijk belang. Wat wij merken in onze praktijk is dat bestuurders een OR die goed contact heeft met zijn achterban veel serieuzer nemen. Uiteindelijk vindt een bestuurder zijn eigen medewerkers en de wensen en doelen die zij hebben belangrijker dan de WOR\, wet op de ondernemingsraden. \n1e dag; mondelinge en schriftelijke communicatiemiddelen\, OR communicatieplan opstellen en OR nieuwsbericht schrijven.  Direct aanmelden\n2e dag; enquête methoden\, interviewen en leren eigen filmpjes of vlogs te maken met onze buur op de Seinstraat in Hilversum\, videonieuwsbericht: \n \nMeer informatie over Zelf je nieuws maken voor OR en achterban.
URL:https://h4m.nl/themadag/or-en-achterban-zelf-je-nieuws-maken/
LOCATION:h4m Kantoor\, Mozartlaan 25W\, Hilversum\, Noord-Holland\, 1217 CM\, Nederland
CATEGORIES:Achterban
ATTACH;FMTTYPE=image/jpeg:https://h4m.nl/wp-content/uploads/communicatie-achterban-e1576235279528.jpg
ORGANIZER;CN="h4m%2C hart voor medezeggenschap bv":MAILTO:info@h4m.nl
END:VEVENT
END:VCALENDAR