BEGIN:VCALENDAR
VERSION:2.0
PRODID:-//h4m, hart voor medezeggenschap - ECPv6.15.16//NONSGML v1.0//EN
CALSCALE:GREGORIAN
METHOD:PUBLISH
X-WR-CALNAME:h4m, hart voor medezeggenschap
X-ORIGINAL-URL:https://h4m.nl
X-WR-CALDESC:Evenementen voor h4m, hart voor medezeggenschap
REFRESH-INTERVAL;VALUE=DURATION:PT1H
X-Robots-Tag:noindex
X-PUBLISHED-TTL:PT1H
BEGIN:VTIMEZONE
TZID:Europe/Amsterdam
BEGIN:DAYLIGHT
TZOFFSETFROM:+0100
TZOFFSETTO:+0200
TZNAME:CEST
DTSTART:20220327T010000
END:DAYLIGHT
BEGIN:STANDARD
TZOFFSETFROM:+0200
TZOFFSETTO:+0100
TZNAME:CET
DTSTART:20221030T010000
END:STANDARD
BEGIN:DAYLIGHT
TZOFFSETFROM:+0100
TZOFFSETTO:+0200
TZNAME:CEST
DTSTART:20230326T010000
END:DAYLIGHT
BEGIN:STANDARD
TZOFFSETFROM:+0200
TZOFFSETTO:+0100
TZNAME:CET
DTSTART:20231029T010000
END:STANDARD
BEGIN:DAYLIGHT
TZOFFSETFROM:+0100
TZOFFSETTO:+0200
TZNAME:CEST
DTSTART:20240331T010000
END:DAYLIGHT
BEGIN:STANDARD
TZOFFSETFROM:+0200
TZOFFSETTO:+0100
TZNAME:CET
DTSTART:20241027T010000
END:STANDARD
BEGIN:DAYLIGHT
TZOFFSETFROM:+0100
TZOFFSETTO:+0200
TZNAME:CEST
DTSTART:20250330T010000
END:DAYLIGHT
BEGIN:STANDARD
TZOFFSETFROM:+0200
TZOFFSETTO:+0100
TZNAME:CET
DTSTART:20251026T010000
END:STANDARD
END:VTIMEZONE
BEGIN:VEVENT
DTSTART;VALUE=DATE:20231221
DTEND;VALUE=DATE:20231222
DTSTAMP:20260420T075655
CREATED:20221222T123016Z
LAST-MODIFIED:20230914T115148Z
UID:3719-1703116800-1703203199@h4m.nl
SUMMARY:Arbo cursus - 21 december 2023 - 1 daagse voor OR-leden en VGW-commissies (1)
DESCRIPTION:De Arbo training voor OR-leden en VGWM-commissies wordt gegeven door een OR trainer met veel ervaring met arbeidsomstandigheden. \nZij heeft een SCOOR erkenning als OR trainer\, heeft 10 jaar werkervaring in organisaties en meer dan 25 jaar ervaring in het trainen en adviseren van ondernemingsraden en VGWM-commissies. \nWat ga je leren tijdens deze Arbo cursus?\n\nDe opzet van de Arbowet\, begrippen als ‘bronaanpak’ en ‘voldoen aan laatste stand der techniek en ergonomie’\nRechten uit de Arbowet die interessant zijn voor de OR en de VGWM\ncommissie – o.a. samenwerking tussen werkgever en werknemersvertegenwoordiging\nRol van de preventiemedewerker en samenwerking met OR en VGWM\nInvloed van de OR – VGWM bij het contract met de arbodienst\nRIE en rol van de OR en VGWM\nArbojaarplan en rol van de OR en VGWM\n\nDeze training geeft je inzicht in bovengenoemde vragen en thema’s. \nErvaringsgericht leren\n\nInteractief\, vragen van jouw OR – VGWM commissie kun je stellen\nFoto’s bespreken met daarop arbeidsomstandigheden en dan een verbinding maken naar de Arbowet en rol OR en VGWM.\nInleiding met overzicht en uitleg van de rechten en rollen\nJullie praktijkcases om mee te oefenen\n\nPraktische informatie\nElke cursist krijgt een map met sheets die een samenvatting geven van de verschillende rechten en de overig behandelde stof.\nDe training wordt gegeven aan kleine groepen van 5 tot 12 personen. Je kunt je individueel inschrijven of met meerdere OR leden of met de VGWM-commissie. Deze Arbo cursus kan ook aan de hele OR  of VGWM commissie gegeven worden op een zelf gekozen locatie. \nDe studiebelasting van deze trainingsdag is 6\,5 uur. \nLocatie\nonze locatie in Hilversum op de Mozartlaan 25\, goed bereikbaar per Intercity en vlakbij snelwegen of bij Ottenhome aan de plassen bij Hilversum/Kortenhoef. \nPrijs\n€ 345\,- per persoon inclusief documentatiemap\, zaalhuur\, koffie/thee en een uitgebreide lunch bij het gezellige Wisseloord restaurant bij ons op het terrein of  bij Ottenhome.\nDeze training is vrijgesteld van BTW omdat h4m een CRKBO geregistreerde instelling is. \nData Arbo cursus 2023\n\ndinsdag 28 maart 2023\ndinsdag 11 juli 2023\ndonderdag 21 december 2023\n\nReferenties 2021 en 2022\ngemiddeld 8; “Prima vormgegeven\, uitstekende uitleg” \ngemiddeld 9\,3: “Duidelijke inhoud gericht op de praktijk. Ook mogelijk om eigen info in te brengen en te bespreken\, waardoor je verder kan bouwen in/ en op je werk” \nAanmelden\n\n	Bericht: JavaScript is vereist voor deze inhoud.
URL:https://h4m.nl/themadag/rol-ondernemingsraad-en-vgw-commissies-bij-arbo-21-december-2023/
LOCATION:h4m Kantoor\, Mozartlaan 25W\, Hilversum\, Noord-Holland\, 1217 CM\, Nederland
CATEGORIES:Arbeidsomstandigheden,Arbo training,Arbocursus,VGWM
ATTACH;FMTTYPE=image/jpeg:https://h4m.nl/wp-content/uploads/veiligheid-op-de-bouwplaats.jpg
ORGANIZER;CN="h4m%2C hart voor medezeggenschap bv":MAILTO:info@h4m.nl
END:VEVENT
BEGIN:VEVENT
DTSTART;VALUE=DATE:20240716
DTEND;VALUE=DATE:20240717
DTSTAMP:20260420T075655
CREATED:20240411T132418Z
LAST-MODIFIED:20240411T132418Z
UID:4037-1721088000-1721174399@h4m.nl
SUMMARY:Arbo cursus - 16 juli 2024 - 1 daagse voor OR-leden en VGW-commissies
DESCRIPTION:De Arbo training voor OR-leden en VGWM-commissies wordt gegeven door een OR trainer met veel ervaring met arbeidsomstandigheden. \nZij heeft een SCOOR erkenning als OR trainer\, heeft 10 jaar werkervaring in organisaties en meer dan 25 jaar ervaring in het trainen en adviseren van ondernemingsraden en VGWM-commissies. \nWat ga je leren tijdens deze Arbo cursus?\n\nDe opzet van de Arbowet\, begrippen als ‘bronaanpak’ en ‘voldoen aan laatste stand der techniek en ergonomie’\nRechten uit de Arbowet die interessant zijn voor de OR en de VGWM\ncommissie – o.a. samenwerking tussen werkgever en werknemersvertegenwoordiging\nRol van de preventiemedewerker en samenwerking met OR en VGWM\nInvloed van de OR – VGWM bij het contract met de arbodienst\nRol OR + nieuwe wetgeving bij vertrouwenspersoon en psycho sociale belasting\nRIE en rol van de OR en VGWM\nArbojaarplan en rol van de OR en VGWM\n\nDeze training geeft je inzicht in bovengenoemde vragen en thema’s. \nErvaringsgericht leren\n\nInteractief\, vragen van jouw OR – VGWM commissie kun je stellen\nFoto’s bespreken met daarop arbeidsomstandigheden en dan een verbinding maken naar de Arbowet en rol OR en VGWM.\nInleiding met overzicht en uitleg van de rechten en rollen\nJullie praktijkcases om mee te oefenen\n\nPraktische informatie\nElke cursist krijgt een map met sheets die een samenvatting geven van de verschillende rechten en de overig behandelde stof.\nDe training wordt gegeven aan kleine groepen van 5 tot 12 personen. Je kunt je individueel inschrijven of met meerdere OR leden of met de VGWM-commissie. Deze Arbo cursus kan ook aan de hele OR  of VGWM commissie gegeven worden op een zelf gekozen locatie. \nDe studiebelasting van deze trainingsdag is 6\,5 uur. \nLocatie\nonze locatie in Hilversum op de Mozartlaan 25\, goed bereikbaar per Intercity en vlakbij snelwegen of bij Ottenhome aan de plassen bij Hilversum/Kortenhoef. \nPrijs\n€ 395\,- per persoon inclusief documentatiemap\, zaalhuur\, koffie/thee en een uitgebreide lunch bij het gezellige Wisseloord restaurant bij ons op het terrein of  bij Ottenhome.\nDeze training is vrijgesteld van BTW omdat h4m een CRKBO geregistreerde instelling is. \nData Arbo cursus 2024\n\ndinsdag 16 juli 2024\ndinsdag 3 december 2024\n\nReferenties 2022 en 2023\ngemiddeld 8; “Prima vormgegeven\, uitstekende uitleg” \ngemiddeld 9\,3: “Duidelijke inhoud gericht op de praktijk. Ook mogelijk om eigen info in te brengen en te bespreken\, waardoor je verder kan bouwen in/ en op je werk” \nAanmelden\n\n	Bericht: JavaScript is vereist voor deze inhoud.
URL:https://h4m.nl/themadag/arbo-cursus-16-juli-2024-1-daagse-voor-or-leden-en-vgw-commissies/
LOCATION:h4m Kantoor\, Mozartlaan 25W\, Hilversum\, Noord-Holland\, 1217 CM\, Nederland
CATEGORIES:Arbeidsomstandigheden,Arbo training,Arbocursus,VGWM
ATTACH;FMTTYPE=image/jpeg:https://h4m.nl/wp-content/uploads/veiligheid-op-de-bouwplaats.jpg
ORGANIZER;CN="h4m%2C hart voor medezeggenschap bv":MAILTO:info@h4m.nl
END:VEVENT
BEGIN:VEVENT
DTSTART;VALUE=DATE:20241203
DTEND;VALUE=DATE:20241204
DTSTAMP:20260420T075655
CREATED:20240411T131855Z
LAST-MODIFIED:20240715T120743Z
UID:4033-1733184000-1733270399@h4m.nl
SUMMARY:Arbo cursus - 3 december 2024 - 1 daagse voor OR-leden en VGW-commissies
DESCRIPTION:De Arbo training voor OR-leden en VGWM-commissies wordt gegeven door een OR trainer met veel ervaring met arbeidsomstandigheden. \nZij heeft een SCOOR erkenning als OR trainer\, heeft 10 jaar werkervaring in organisaties en meer dan 25 jaar ervaring in het trainen en adviseren van ondernemingsraden en VGWM-commissies. \nWat ga je leren tijdens deze Arbo cursus?\n\nDe opzet van de Arbowet\, begrippen als ‘bronaanpak’ en ‘voldoen aan laatste stand der techniek en ergonomie’\nRechten uit de Arbowet die interessant zijn voor de OR en de VGWM\ncommissie – o.a. samenwerking tussen werkgever en werknemersvertegenwoordiging\nRol van de preventiemedewerker en samenwerking met OR en VGWM\nInvloed van de OR – VGWM bij het contract met de arbodienst\nRol OR + nieuwe wetgeving bij vertrouwenspersoon en psycho sociale belasting\nRIE en rol van de OR en VGWM\nArbojaarplan en rol van de OR en VGWM\n\nDeze training geeft je inzicht in bovengenoemde vragen en thema’s. \nErvaringsgericht leren\n\nInteractief\, vragen van jouw OR – VGWM commissie kun je stellen\nFoto’s bespreken met daarop arbeidsomstandigheden en dan een verbinding maken naar de Arbowet en rol OR en VGWM.\nInleiding met overzicht en uitleg van de rechten en rollen\nJullie praktijkcases om mee te oefenen\n\nPraktische informatie\nElke cursist krijgt een map met sheets die een samenvatting geven van de verschillende rechten en de overig behandelde stof.\nDe training wordt gegeven aan kleine groepen van 5 tot 10 personen. Je kunt je individueel inschrijven of met meerdere OR leden of met de VGWM-commissie. Deze Arbo cursus kan ook aan de hele OR  of VGWM commissie gegeven worden op een zelf gekozen locatie. \nDe studiebelasting van deze trainingsdag is 6\,5 uur. De training gaat door bij minimaal 5 deelnemers.\nHet maximum aantal deelnemers is 10. \nLocatie\nonze locatie in Hilversum op de Mozartlaan 25\, goed bereikbaar per Intercity en vlakbij snelwegen of bij Ottenhome aan de plassen bij Hilversum/Kortenhoef. \nPrijs\n€ 395\,- per persoon inclusief documentatiemap\, zaalhuur\, koffie/thee en een uitgebreide lunch bij het gezellige Wisseloord restaurant bij ons op het terrein of  bij Ottenhome.\nDeze training is vrijgesteld van BTW omdat h4m een CRKBO geregistreerde instelling is. \nData Arbo cursus 2024\n\ndinsdag 16 juli 2024\ndinsdag 3 december 2024\n\nReferenties 2022 en 2023\ngemiddeld 8; “Prima vormgegeven\, uitstekende uitleg” \ngemiddeld 9\,3: “Duidelijke inhoud gericht op de praktijk. Ook mogelijk om eigen info in te brengen en te bespreken\, waardoor je verder kan bouwen in/ en op je werk” \nAanmelden\n\n	Bericht: JavaScript is vereist voor deze inhoud.
URL:https://h4m.nl/themadag/arbo-training-3-december-2024-1-daagse-voor-or-leden-en-vgw-commissies/
LOCATION:h4m Kantoor\, Mozartlaan 25W\, Hilversum\, Noord-Holland\, 1217 CM\, Nederland
CATEGORIES:Arbeidsomstandigheden,Arbo training,Arbocursus,VGWM
ATTACH;FMTTYPE=image/jpeg:https://h4m.nl/wp-content/uploads/veiligheid-op-de-bouwplaats.jpg
ORGANIZER;CN="h4m%2C hart voor medezeggenschap bv":MAILTO:info@h4m.nl
END:VEVENT
END:VCALENDAR