BEGIN:VCALENDAR
VERSION:2.0
PRODID:-//h4m, hart voor medezeggenschap - ECPv6.15.16//NONSGML v1.0//EN
CALSCALE:GREGORIAN
METHOD:PUBLISH
X-ORIGINAL-URL:https://h4m.nl
X-WR-CALDESC:Evenementen voor h4m, hart voor medezeggenschap
REFRESH-INTERVAL;VALUE=DURATION:PT1H
X-Robots-Tag:noindex
X-PUBLISHED-TTL:PT1H
BEGIN:VTIMEZONE
TZID:UTC
BEGIN:STANDARD
TZOFFSETFROM:+0000
TZOFFSETTO:+0000
TZNAME:UTC
DTSTART:20170101T000000
END:STANDARD
END:VTIMEZONE
BEGIN:VEVENT
DTSTART;TZID=UTC:20190514T093000
DTEND;TZID=UTC:20190514T170000
DTSTAMP:20260425T160115
CREATED:20181130T103155Z
LAST-MODIFIED:20190111T113846Z
UID:2865-1557826200-1557853200@h4m.nl
SUMMARY:WOR cursus Hilversum mei 2019
DESCRIPTION:WOR cursus Hilversum mei 2019\n\n14 mei\n€ 275 \n\nDe training wordt gegeven door zeer ervaren OR trainers\, allemaal RMZO erkend\, met meer dan 10 jaar werkervaring in organisaties en meer dan 10 jaar ervaring in het trainen en adviseren van ondernemingsraden. Zij kennen de theorie en de praktijk. \nWil je weten: \n\nWat de OR rechten zijn?\nWat positie van de OR in de organisatie is en wat OR taken en OR bevoegdheden zijn?\nOR rechten; initiatiefrecht\, informatierecht\, overlegrecht\, adviesrecht\, instemmingsrecht worden uitgebreid behandeld\nWat de WOR zegt over het contact houden met de achterban?\n\nDeze cursusdag geeft antwoord op bovengenoemde vragen en thema’s!
URL:https://h4m.nl/themadag/2865/
LOCATION:h4m Kantoor\, Mozartlaan 25W\, Hilversum\, Noord-Holland\, 1217 CM\, Nederland
CATEGORIES:WOR
ATTACH;FMTTYPE=image/png:https://h4m.nl/wp-content/uploads/h4m-hart-voor-medezeggenschap-def-03042018.png
END:VEVENT
BEGIN:VEVENT
DTSTART;TZID=UTC:20190416T093000
DTEND;TZID=UTC:20190416T170000
DTSTAMP:20260425T160115
CREATED:20181130T094542Z
LAST-MODIFIED:20190111T114051Z
UID:2852-1555407000-1555434000@h4m.nl
SUMMARY:WOR cursus Hilversum april 2019
DESCRIPTION:WOR cursus Hilversum april 2019\n\n16 april\n€275 \n\nDe training wordt gegeven door zeer ervaren OR trainers\, allemaal RMZO erkend\, met meer dan 10 jaar werkervaring in organisaties en meer dan 10 jaar ervaring in het trainen en adviseren van ondernemingsraden. Zij kennen de theorie en de praktijk. \nWil je weten: \n\nWat de OR rechten zijn?\nWat positie van de OR in de organisatie is en wat OR taken en OR bevoegdheden zijn?\nOR rechten; initiatiefrecht\, informatierecht\, overlegrecht\, adviesrecht\, instemmingsrecht worden uitgebreid behandeld\nWat de WOR zegt over het contact houden met de achterban?\n\nDeze cursusdag geeft antwoord op bovengenoemde vragen en thema’s!
URL:https://h4m.nl/themadag/wor-cursus-hilversum-april/
LOCATION:h4m Kantoor\, Mozartlaan 25W\, Hilversum\, Noord-Holland\, 1217 CM\, Nederland
CATEGORIES:WOR
ATTACH;FMTTYPE=image/png:https://h4m.nl/wp-content/uploads/h4m-hart-voor-medezeggenschap-def-03042018.png
END:VEVENT
BEGIN:VEVENT
DTSTART;TZID=UTC:20190308T093000
DTEND;TZID=UTC:20190308T170000
DTSTAMP:20260425T160115
CREATED:20181016T081825Z
LAST-MODIFIED:20191009T074714Z
UID:2788-1552037400-1552064400@h4m.nl
SUMMARY:WOR cursus Hilversum maart 2019
DESCRIPTION:WOR cursus Hilversum maart 2019\n\n8 maart\n€ 275 \n\n\n\nDe training wordt gegeven door zeer ervaren OR trainers\, allemaal RMZO erkend\, met meer dan 10 jaar werkervaring in organisaties en meer dan 10 jaar ervaring in het trainen en adviseren van ondernemingsraden. Zij kennen de theorie en de praktijk. \nWil je weten: \n\nWat de OR rechten zijn?\nWat positie van de OR in de organisatie is en wat OR taken en OR bevoegdheden zijn?\nOR rechten; initiatiefrecht\, informatierecht\, overlegrecht\, adviesrecht\, instemmingsrecht worden uitgebreid behandeld\nWat de WOR zegt over het contact houden met de achterban?\n\nDeze cursusdag geeft antwoord op bovengenoemde vragen en thema’s!
URL:https://h4m.nl/themadag/2788/
LOCATION:h4m Kantoor\, Mozartlaan 25W\, Hilversum\, Noord-Holland\, 1217 CM\, Nederland
CATEGORIES:WOR
ATTACH;FMTTYPE=image/png:https://h4m.nl/wp-content/uploads/h4m-hart-voor-medezeggenschap-def-03042018.png
END:VEVENT
BEGIN:VEVENT
DTSTART;TZID=UTC:20190124T093000
DTEND;TZID=UTC:20190124T170000
DTSTAMP:20260425T160115
CREATED:20181016T081647Z
LAST-MODIFIED:20191009T074743Z
UID:2785-1548322200-1548349200@h4m.nl
SUMMARY:WOR cursus Hilversum januari 2019
DESCRIPTION:WOR cursus Hilversum januari 2019\n\n25 januari\n€ 275 \n\n\n\nDe training wordt gegeven door zeer ervaren OR trainers\, allemaal RMZO erkend\, met meer dan 10 jaar werkervaring in organisaties en meer dan 10 jaar ervaring in het trainen en adviseren van ondernemingsraden. Zij kennen de theorie en de praktijk. \nWil je weten: \n\nWat de OR rechten zijn?\nWat positie van de OR in de organisatie is en wat OR taken en OR bevoegdheden zijn?\nOR rechten; initiatiefrecht\, informatierecht\, overlegrecht\, adviesrecht\, instemmingsrecht worden uitgebreid behandeld\nWat de WOR zegt over het contact houden met de achterban?\n\nDeze cursusdag geeft antwoord op bovengenoemde vragen en thema’s!
URL:https://h4m.nl/themadag/wor-cursus-hilversum-januari-2019/
LOCATION:h4m Kantoor\, Mozartlaan 25W\, Hilversum\, Noord-Holland\, 1217 CM\, Nederland
CATEGORIES:WOR
ATTACH;FMTTYPE=image/png:https://h4m.nl/wp-content/uploads/h4m-hart-voor-medezeggenschap-def-03042018.png
END:VEVENT
BEGIN:VEVENT
DTSTART;VALUE=DATE:20181127
DTEND;VALUE=DATE:20181128
DTSTAMP:20260425T160115
CREATED:20180315T091000Z
LAST-MODIFIED:20180914T135231Z
UID:1878-1543276800-1543363199@h4m.nl
SUMMARY:WOR cursus Hilversum november 2018
DESCRIPTION:De training wordt gegeven door zeer ervaren OR trainers\, allemaal RMZO erkend\, met meer dan 10 jaar werkervaring in organisaties en meer dan 10 jaar ervaring in het trainen en adviseren van ondernemingsraden. Zij kennen de theorie en de praktijk. \nWil je weten: \n\nWat de OR rechten zijn?\nWat positie van de OR in de organisatie is en wat OR taken en OR bevoegdheden zijn?\nOR rechten; initiatiefrecht\, informatierecht\, overlegrecht\, adviesrecht\, instemmingsrecht worden uitgebreid behandeld\nWat de WOR zegt over het contact houden met de achterban?\n\nDeze cursusdag geeft antwoord op bovengenoemde vragen en thema’s! \nAanmelden
URL:https://h4m.nl/themadag/wor-cursus-november-2018/
LOCATION:h4m Kantoor\, Mozartlaan 25W\, Hilversum\, Noord-Holland\, 1217 CM\, Nederland
CATEGORIES:WOR
ORGANIZER;CN="h4m%2C hart voor medezeggenschap bv":MAILTO:info@h4m.nl
END:VEVENT
BEGIN:VEVENT
DTSTART;VALUE=DATE:20180925
DTEND;VALUE=DATE:20180926
DTSTAMP:20260425T160115
CREATED:20180315T090809Z
LAST-MODIFIED:20180914T135305Z
UID:1876-1537833600-1537919999@h4m.nl
SUMMARY:WOR cursus Hilversum 25 september 2018
DESCRIPTION:De WOR cursus wordt gegeven door zeer ervaren OR trainers\, allemaal RMZO erkend\, met meer dan 10 jaar werkervaring in organisaties en meer dan 10 jaar ervaring in het trainen en adviseren van ondernemingsraden. Zij kennen de theorie en de praktijk. \nWil je weten: \n\nWat de OR rechten zijn?\nWat positie van de OR in de organisatie is en wat OR taken en OR bevoegdheden zijn?\nOR rechten; initiatiefrecht\, informatierecht\, overlegrecht\, adviesrecht\, instemmingsrecht worden uitgebreid behandeld\nWat de WOR zegt over het contact houden met de achterban?\n\nDeze cursusdag geeft antwoord op bovengenoemde vragen en thema’s! \nAanmelden
URL:https://h4m.nl/themadag/wor-cursus-september-2018/
LOCATION:h4m Kantoor\, Mozartlaan 25W\, Hilversum\, Noord-Holland\, 1217 CM\, Nederland
CATEGORIES:WOR
ORGANIZER;CN="h4m%2C hart voor medezeggenschap bv":MAILTO:info@h4m.nl
END:VEVENT
BEGIN:VEVENT
DTSTART;TZID=UTC:20180601T093000
DTEND;TZID=UTC:20180601T170000
DTSTAMP:20260425T160115
CREATED:20180315T090217Z
LAST-MODIFIED:20180914T135308Z
UID:1871-1527845400-1527872400@h4m.nl
SUMMARY:WOR cursus Hilversum juni 2018
DESCRIPTION:De training wordt gegeven door zeer ervaren OR trainers\, allemaal RMZO erkend\, met meer dan 10 jaar werkervaring in organisaties en meer dan 10 jaar ervaring in het trainen en adviseren van ondernemingsraden. Zij kennen de theorie en de praktijk. \nWil je weten: \n\nWat de OR rechten zijn?\nWat positie van de OR in de organisatie is en wat OR taken en OR bevoegdheden zijn?\nOR rechten; initiatiefrecht\, informatierecht\, overlegrecht\, adviesrecht\, instemmingsrecht worden uitgebreid behandeld\nWat de WOR zegt over het contact houden met de achterban?\n\nDeze cursusdag geeft antwoord op bovengenoemde vragen en thema’s!  Direct aanmelden\nLees meer over de WOR cursus in Hilversum.
URL:https://h4m.nl/themadag/wor-cursus-juni-2018/
LOCATION:h4m Kantoor\, Mozartlaan 25W\, Hilversum\, Noord-Holland\, 1217 CM\, Nederland
CATEGORIES:WOR
ORGANIZER;CN="h4m%2C hart voor medezeggenschap bv":MAILTO:info@h4m.nl
END:VEVENT
BEGIN:VEVENT
DTSTART;TZID=UTC:20180309T080000
DTEND;TZID=UTC:20180309T170000
DTSTAMP:20260425T160115
CREATED:20180315T085439Z
LAST-MODIFIED:20191009T074622Z
UID:1866-1520582400-1520614800@h4m.nl
SUMMARY:WOR cursus Hilversum
DESCRIPTION:De training wordt gegeven door zeer ervaren OR trainers\, allemaal RMZO erkend\, met meer dan 10 jaar werkervaring in organisaties en meer dan 10 jaar ervaring in het trainen en adviseren van ondernemingsraden. Zij kennen de theorie en de praktijk. \nWil je weten: \n\nWat de OR rechten zijn?\nWat positie van de OR in de organisatie is en wat OR taken en OR bevoegdheden zijn?\nOR rechten; initiatiefrecht\, informatierecht\, overlegrecht\, adviesrecht\, instemmingsrecht worden uitgebreid behandeld\nWat de WOR zegt over het contact houden met de achterban?\n\nDeze cursusdag geeft antwoord op bovengenoemde vragen en thema’s!
URL:https://h4m.nl/themadag/wor-cursus/
LOCATION:h4m Kantoor\, Mozartlaan 25W\, Hilversum\, Noord-Holland\, 1217 CM\, Nederland
CATEGORIES:WOR
ORGANIZER;CN="h4m%2C hart voor medezeggenschap bv":MAILTO:info@h4m.nl
END:VEVENT
END:VCALENDAR