BEGIN:VCALENDAR
VERSION:2.0
PRODID:-//h4m, hart voor medezeggenschap - ECPv6.15.16//NONSGML v1.0//EN
CALSCALE:GREGORIAN
METHOD:PUBLISH
X-WR-CALNAME:h4m, hart voor medezeggenschap
X-ORIGINAL-URL:https://h4m.nl
X-WR-CALDESC:Evenementen voor h4m, hart voor medezeggenschap
REFRESH-INTERVAL;VALUE=DURATION:PT1H
X-Robots-Tag:noindex
X-PUBLISHED-TTL:PT1H
BEGIN:VTIMEZONE
TZID:UTC
BEGIN:STANDARD
TZOFFSETFROM:+0000
TZOFFSETTO:+0000
TZNAME:UTC
DTSTART:20180101T000000
END:STANDARD
END:VTIMEZONE
BEGIN:VEVENT
DTSTART;TZID=UTC:20191111T093000
DTEND;TZID=UTC:20191111T170000
DTSTAMP:20260424T010322
CREATED:20190311T082821Z
LAST-MODIFIED:20191128T110558Z
UID:2995-1573464600-1573491600@h4m.nl
SUMMARY:WOR cursus Hilversum november 2019
DESCRIPTION:De training wordt gegeven door zeer ervaren OR trainers\, allemaal RMZO/SCOOR erkend\, met meer dan 10 jaar werkervaring in organisaties en meer dan 20 jaar ervaring in het trainen en adviseren van ondernemingsraden. Zij kennen de theorie en de praktijk. \nWil je weten: \n\nWat de OR rechten zijn?\nWat de positie van de OR in de organisatie is en wat OR taken en OR bevoegdheden zijn?\nOR rechten; initiatiefrecht\, informatierecht\, overlegrecht\, adviesrecht\, instemmingsrecht worden uitgebreid behandeld\nWat de WOR zegt over het contact houden met de achterban?\n\nDeze cursusdag geeft antwoord op bovengenoemde vragen en thema’s! \nStudieduur van deze dag is 6\,5 uur.
URL:https://h4m.nl/themadag/wor-cursus-hilversum-5x-per-jaar/
LOCATION:h4m Kantoor\, Mozartlaan 25W\, Hilversum\, Noord-Holland\, 1217 CM\, Nederland
CATEGORIES:WOR
ATTACH;FMTTYPE=image/png:https://h4m.nl/wp-content/uploads/h4m-hart-voor-medezeggenschap-def-03042018.png
ORGANIZER;CN="h4m%2C hart voor medezeggenschap bv":MAILTO:info@h4m.nl
END:VEVENT
END:VCALENDAR